BEGIN:VCALENDAR
PRODID:-//SiteBuilder 2//University of Warwick ITS Web Team//EN
VERSION:2.0
CALSCALE:GREGORIAN
METHOD:PUBLISH
X-WR-TIMEZONE:Europe/London
X-LIC-LOCATION:Europe/London
BEGIN:VTIMEZONE
TZID:Europe/London
LAST-MODIFIED:20201010T011803Z
TZURL:http://tzurl.org/zoneinfo/Europe/London
X-LIC-LOCATION:Europe/London
X-PROLEPTIC-TZNAME:LMT
BEGIN:STANDARD
TZNAME:GMT
TZOFFSETFROM:+000115
TZOFFSETTO:+0000
DTSTART:18471201T000000
END:STANDARD
BEGIN:DAYLIGHT
TZNAME:BST
TZOFFSETFROM:+0000
TZOFFSETTO:+0100
DTSTART:19160521T020000
RDATE:19170408T020000
RDATE:19180324T020000
RDATE:19190330T020000
RDATE:19200328T020000
RDATE:19210403T020000
RDATE:19220326T020000
RDATE:19230422T020000
RDATE:19240413T020000
RDATE:19270410T020000
RDATE:19300413T020000
RDATE:19330409T020000
RDATE:19340422T020000
RDATE:19350414T020000
RDATE:19380410T020000
RDATE:19390416T020000
RDATE:19400225T020000
RDATE:19460414T020000
RDATE:19470316T020000
RDATE:19480314T020000
RDATE:19490403T020000
RDATE:19530419T020000
RDATE:19540411T020000
RDATE:19570414T020000
RDATE:19600410T020000
RDATE:19680218T020000
END:DAYLIGHT
BEGIN:STANDARD
TZNAME:GMT
TZOFFSETFROM:+0100
TZOFFSETTO:+0000
DTSTART:19161001T030000
RDATE:19170917T030000
RDATE:19180930T030000
RDATE:19190929T030000
RDATE:19201025T030000
RDATE:19211003T030000
RDATE:19221008T030000
RDATE:19391119T030000
RDATE:19471102T030000
RDATE:19481031T030000
RDATE:19491030T030000
RDATE:19711031T030000
END:STANDARD
BEGIN:STANDARD
TZNAME:GMT
TZOFFSETFROM:+0100
TZOFFSETTO:+0000
DTSTART:19230916T030000
RRULE:FREQ=YEARLY;UNTIL=19240921T020000Z;BYMONTH=9;BYMONTHDAY=16,17,18,19
 ,20,21,22;BYDAY=SU
END:STANDARD
BEGIN:DAYLIGHT
TZNAME:BST
TZOFFSETFROM:+0000
TZOFFSETTO:+0100
DTSTART:19250419T020000
RRULE:FREQ=YEARLY;UNTIL=19260418T020000Z;BYMONTH=4;BYMONTHDAY=16,17,18,19
 ,20,21,22;BYDAY=SU
END:DAYLIGHT
BEGIN:STANDARD
TZNAME:GMT
TZOFFSETFROM:+0100
TZOFFSETTO:+0000
DTSTART:19251004T030000
RRULE:FREQ=YEARLY;UNTIL=19381002T020000Z;BYMONTH=10;BYMONTHDAY=2,3,4,5,6,
 7,8;BYDAY=SU
END:STANDARD
BEGIN:DAYLIGHT
TZNAME:BST
TZOFFSETFROM:+0000
TZOFFSETTO:+0100
DTSTART:19280422T020000
RRULE:FREQ=YEARLY;UNTIL=19290421T020000Z;BYMONTH=4;BYMONTHDAY=16,17,18,19
 ,20,21,22;BYDAY=SU
END:DAYLIGHT
BEGIN:DAYLIGHT
TZNAME:BST
TZOFFSETFROM:+0000
TZOFFSETTO:+0100
DTSTART:19310419T020000
RRULE:FREQ=YEARLY;UNTIL=19320417T020000Z;BYMONTH=4;BYMONTHDAY=16,17,18,19
 ,20,21,22;BYDAY=SU
END:DAYLIGHT
BEGIN:DAYLIGHT
TZNAME:BST
TZOFFSETFROM:+0000
TZOFFSETTO:+0100
DTSTART:19360419T020000
RRULE:FREQ=YEARLY;UNTIL=19370418T020000Z;BYMONTH=4;BYMONTHDAY=16,17,18,19
 ,20,21,22;BYDAY=SU
END:DAYLIGHT
BEGIN:DAYLIGHT
TZNAME:BDST
TZOFFSETFROM:+0100
TZOFFSETTO:+0200
DTSTART:19410504T020000
RDATE:19450402T020000
RDATE:19470413T020000
END:DAYLIGHT
BEGIN:DAYLIGHT
TZNAME:BST
TZOFFSETFROM:+0200
TZOFFSETTO:+0100
DTSTART:19410810T030000
RRULE:FREQ=YEARLY;UNTIL=19430815T010000Z;BYMONTH=8;BYMONTHDAY=9,10,11,12,
 13,14,15;BYDAY=SU
END:DAYLIGHT
BEGIN:DAYLIGHT
TZNAME:BDST
TZOFFSETFROM:+0100
TZOFFSETTO:+0200
DTSTART:19420405T020000
RRULE:FREQ=YEARLY;UNTIL=19440402T010000Z;BYMONTH=4;BYMONTHDAY=2,3,4,5,6,7
 ,8;BYDAY=SU
END:DAYLIGHT
BEGIN:DAYLIGHT
TZNAME:BST
TZOFFSETFROM:+0200
TZOFFSETTO:+0100
DTSTART:19440917T030000
RDATE:19450715T030000
RDATE:19470810T030000
END:DAYLIGHT
BEGIN:STANDARD
TZNAME:GMT
TZOFFSETFROM:+0100
TZOFFSETTO:+0000
DTSTART:19451007T030000
RRULE:FREQ=YEARLY;UNTIL=19461006T020000Z;BYMONTH=10;BYMONTHDAY=2,3,4,5,6,
 7,8;BYDAY=SU
END:STANDARD
BEGIN:DAYLIGHT
TZNAME:BST
TZOFFSETFROM:+0000
TZOFFSETTO:+0100
DTSTART:19500416T020000
RRULE:FREQ=YEARLY;UNTIL=19520420T020000Z;BYMONTH=4;BYMONTHDAY=14,15,16,17
 ,18,19,20;BYDAY=SU
END:DAYLIGHT
BEGIN:STANDARD
TZNAME:GMT
TZOFFSETFROM:+0100
TZOFFSETTO:+0000
DTSTART:19501022T030000
RRULE:FREQ=YEARLY;UNTIL=19521026T020000Z;BYMONTH=10;BYMONTHDAY=21,22,23,2
 4,25,26,27;BYDAY=SU
END:STANDARD
BEGIN:STANDARD
TZNAME:GMT
TZOFFSETFROM:+0100
TZOFFSETTO:+0000
DTSTART:19531004T030000
RRULE:FREQ=YEARLY;UNTIL=19601002T020000Z;BYMONTH=10;BYMONTHDAY=2,3,4,5,6,
 7,8;BYDAY=SU
END:STANDARD
BEGIN:DAYLIGHT
TZNAME:BST
TZOFFSETFROM:+0000
TZOFFSETTO:+0100
DTSTART:19550417T020000
RRULE:FREQ=YEARLY;UNTIL=19560422T020000Z;BYMONTH=4;BYMONTHDAY=16,17,18,19
 ,20,21,22;BYDAY=SU
END:DAYLIGHT
BEGIN:DAYLIGHT
TZNAME:BST
TZOFFSETFROM:+0000
TZOFFSETTO:+0100
DTSTART:19580420T020000
RRULE:FREQ=YEARLY;UNTIL=19590419T020000Z;BYMONTH=4;BYMONTHDAY=16,17,18,19
 ,20,21,22;BYDAY=SU
END:DAYLIGHT
BEGIN:DAYLIGHT
TZNAME:BST
TZOFFSETFROM:+0000
TZOFFSETTO:+0100
DTSTART:19610326T020000
RRULE:FREQ=YEARLY;UNTIL=19630331T020000Z;BYMONTH=3;BYDAY=-1SU
END:DAYLIGHT
BEGIN:STANDARD
TZNAME:GMT
TZOFFSETFROM:+0100
TZOFFSETTO:+0000
DTSTART:19611029T030000
RRULE:FREQ=YEARLY;UNTIL=19671029T020000Z;BYMONTH=10;BYMONTHDAY=23,24,25,2
 6,27,28,29;BYDAY=SU
END:STANDARD
BEGIN:DAYLIGHT
TZNAME:BST
TZOFFSETFROM:+0000
TZOFFSETTO:+0100
DTSTART:19640322T020000
RRULE:FREQ=YEARLY;UNTIL=19670319T020000Z;BYMONTH=3;BYMONTHDAY=19,20,21,22
 ,23,24,25;BYDAY=SU
END:DAYLIGHT
BEGIN:STANDARD
TZNAME:BST
TZOFFSETFROM:+0100
TZOFFSETTO:+0100
DTSTART:19681026T230000
END:STANDARD
BEGIN:DAYLIGHT
TZNAME:BST
TZOFFSETFROM:+0000
TZOFFSETTO:+0100
DTSTART:19720319T020000
RRULE:FREQ=YEARLY;UNTIL=19800316T020000Z;BYMONTH=3;BYMONTHDAY=16,17,18,19
 ,20,21,22;BYDAY=SU
END:DAYLIGHT
BEGIN:STANDARD
TZNAME:GMT
TZOFFSETFROM:+0100
TZOFFSETTO:+0000
DTSTART:19721029T030000
RRULE:FREQ=YEARLY;UNTIL=19801026T020000Z;BYMONTH=10;BYMONTHDAY=23,24,25,2
 6,27,28,29;BYDAY=SU
END:STANDARD
BEGIN:DAYLIGHT
TZNAME:BST
TZOFFSETFROM:+0000
TZOFFSETTO:+0100
DTSTART:19810329T010000
RRULE:FREQ=YEARLY;BYMONTH=3;BYDAY=-1SU
END:DAYLIGHT
BEGIN:STANDARD
TZNAME:GMT
TZOFFSETFROM:+0100
TZOFFSETTO:+0000
DTSTART:19811025T020000
RRULE:FREQ=YEARLY;UNTIL=19891029T010000Z;BYMONTH=10;BYMONTHDAY=23,24,25,2
 6,27,28,29;BYDAY=SU
END:STANDARD
BEGIN:STANDARD
TZNAME:GMT
TZOFFSETFROM:+0100
TZOFFSETTO:+0000
DTSTART:19901028T020000
RRULE:FREQ=YEARLY;UNTIL=19951022T010000Z;BYMONTH=10;BYDAY=4SU
END:STANDARD
BEGIN:STANDARD
TZNAME:GMT
TZOFFSETFROM:+0000
TZOFFSETTO:+0000
DTSTART:19960101T000000
END:STANDARD
BEGIN:STANDARD
TZNAME:GMT
TZOFFSETFROM:+0100
TZOFFSETTO:+0000
DTSTART:19961027T020000
RRULE:FREQ=YEARLY;BYMONTH=10;BYDAY=-1SU
END:STANDARD
END:VTIMEZONE
BEGIN:VEVENT
DTSTAMP:20260420T015714Z
DTSTART;VALUE=DATE-TIME:20251010T120000
DTEND;VALUE=DATE-TIME:20251010T140000
SUMMARY:Being Present to Climate Change: Inheritance\, Repair and the Res
 tless Work of Justice
TZID:Europe/London
UID:20251010-8ac672c699ac5c210199af3d07ff029f@warwick.ac.uk
CREATED:20251004T124036Z
DESCRIPTION:Being Present to Climate Change: Inheritance\, Repair and the
  Restless Work of Justice\, taking place on Friday\, 10 October 2025\, 1
 2–2pm in S.2.09\, Warwick Law School. The is an interdisciplinary event 
 is co-hosted with the Warwick Network for Equity and Exchange in Climate
  Governance and Strategy (NEXUS) and will be followed by a networking me
 eting for climate and environmental governance researchers from 2–3pm. L
 unch will be provided. Our lands\, waters\, and bodies carry the layered
  scars of colonisation\, extraction\, and broken promises. We inherit mo
 re than land — we inherit unpaid debts and silenced histories\, carried 
 not only in archives but in our bloodlines\, in the songs\, struggles\, 
 and silences passed down to us. From the rice paddies of displaced villa
 ges in the Philippines to the coal mines of Indonesia and the oil pipeli
 nes of Canada\, from Palestine’s besieged farmlands to the industrial co
 rridors of China\, our ancestors bore the first wounds of stolen labour\
 , poisoned soil\, and stolen futures. To be present to this inheritance 
 is to feel the weight of unfinished work. It is to recognise that repair
  cannot begin without truth-telling\, atonement\, and the dismantling of
  the systems that continue to harm. In conversation with Lisa Tilley (De
 partment of Development Studies\, SOAS)\, whose work explores key sites 
 of colonial/capitalist expansion – the plantation\, the mine\, the smelt
 er\, and the city – and the intersections of race and political ecology\
 , Mohammed Usrof (Palestinian Institute for Climate Strategy) whose advo
 cacy links climate resilience to the struggle against occupation\; Joy R
 eyes (Manila Observatory) who has worked at the forefront of climate lit
 igation in the Philippines and beyond\, Sahar Shah (Bristol Law School) 
 whose work unsettles the law and colonial narratives of extraction in Ca
 nadian tar sands and Anil Yilmaz-Vastardis (Essex Law School) whose work
  challenges the complicity of corporations in the climate and environmen
 tal crisis — we ask: When harm is both historic and unfolding\, what doe
 s atonement require from those who benefit from it? How do we unmask and
  refuse the ‘false solutions\,’ carbon trading\, toxic exports\, green g
 rowth narratives and cultivate alternatives that are rooted in sovereign
 ty and reparative justice? What would it mean to treat repair not as cha
 rity or corporate responsibility\, but as a binding\, transnational\, in
 tergenerational debt to transform the systems that make this harm possib
 le? What legal pathways and non-legal pathways can be used to seek these
  reparations and accountability? Together\, we will explore what it mean
 s to tend the circle\; to commit to the restless\, patient\, and global 
 work of justice\, where being present is both inheritance and responsibi
 lity. Moderators: Jodi-Ann Wang (Oxford Department for International Dev
 elopment) and Celine Tan (Warwick Law School).
LOCATION:S.2.09 Warwick Law School
URL:
ATTACH:
CATEGORIES:Public Talk
LAST-MODIFIED:20251004T124036Z
ORGANIZER;CN=Sue Rae:
END:VEVENT
END:VCALENDAR
