BEGIN:VCALENDAR
PRODID:-//SiteBuilder 2//University of Warwick ITS Web Team//EN
VERSION:2.0
CALSCALE:GREGORIAN
METHOD:PUBLISH
X-WR-TIMEZONE:Europe/London
X-LIC-LOCATION:Europe/London
BEGIN:VTIMEZONE
TZID:Europe/London
LAST-MODIFIED:20201010T011803Z
TZURL:http://tzurl.org/zoneinfo/Europe/London
X-LIC-LOCATION:Europe/London
X-PROLEPTIC-TZNAME:LMT
BEGIN:STANDARD
TZNAME:GMT
TZOFFSETFROM:+000115
TZOFFSETTO:+0000
DTSTART:18471201T000000
END:STANDARD
BEGIN:DAYLIGHT
TZNAME:BST
TZOFFSETFROM:+0000
TZOFFSETTO:+0100
DTSTART:19160521T020000
RDATE:19170408T020000
RDATE:19180324T020000
RDATE:19190330T020000
RDATE:19200328T020000
RDATE:19210403T020000
RDATE:19220326T020000
RDATE:19230422T020000
RDATE:19240413T020000
RDATE:19270410T020000
RDATE:19300413T020000
RDATE:19330409T020000
RDATE:19340422T020000
RDATE:19350414T020000
RDATE:19380410T020000
RDATE:19390416T020000
RDATE:19400225T020000
RDATE:19460414T020000
RDATE:19470316T020000
RDATE:19480314T020000
RDATE:19490403T020000
RDATE:19530419T020000
RDATE:19540411T020000
RDATE:19570414T020000
RDATE:19600410T020000
RDATE:19680218T020000
END:DAYLIGHT
BEGIN:STANDARD
TZNAME:GMT
TZOFFSETFROM:+0100
TZOFFSETTO:+0000
DTSTART:19161001T030000
RDATE:19170917T030000
RDATE:19180930T030000
RDATE:19190929T030000
RDATE:19201025T030000
RDATE:19211003T030000
RDATE:19221008T030000
RDATE:19391119T030000
RDATE:19471102T030000
RDATE:19481031T030000
RDATE:19491030T030000
RDATE:19711031T030000
END:STANDARD
BEGIN:STANDARD
TZNAME:GMT
TZOFFSETFROM:+0100
TZOFFSETTO:+0000
DTSTART:19230916T030000
RRULE:FREQ=YEARLY;UNTIL=19240921T020000Z;BYMONTH=9;BYMONTHDAY=16,17,18,19
 ,20,21,22;BYDAY=SU
END:STANDARD
BEGIN:DAYLIGHT
TZNAME:BST
TZOFFSETFROM:+0000
TZOFFSETTO:+0100
DTSTART:19250419T020000
RRULE:FREQ=YEARLY;UNTIL=19260418T020000Z;BYMONTH=4;BYMONTHDAY=16,17,18,19
 ,20,21,22;BYDAY=SU
END:DAYLIGHT
BEGIN:STANDARD
TZNAME:GMT
TZOFFSETFROM:+0100
TZOFFSETTO:+0000
DTSTART:19251004T030000
RRULE:FREQ=YEARLY;UNTIL=19381002T020000Z;BYMONTH=10;BYMONTHDAY=2,3,4,5,6,
 7,8;BYDAY=SU
END:STANDARD
BEGIN:DAYLIGHT
TZNAME:BST
TZOFFSETFROM:+0000
TZOFFSETTO:+0100
DTSTART:19280422T020000
RRULE:FREQ=YEARLY;UNTIL=19290421T020000Z;BYMONTH=4;BYMONTHDAY=16,17,18,19
 ,20,21,22;BYDAY=SU
END:DAYLIGHT
BEGIN:DAYLIGHT
TZNAME:BST
TZOFFSETFROM:+0000
TZOFFSETTO:+0100
DTSTART:19310419T020000
RRULE:FREQ=YEARLY;UNTIL=19320417T020000Z;BYMONTH=4;BYMONTHDAY=16,17,18,19
 ,20,21,22;BYDAY=SU
END:DAYLIGHT
BEGIN:DAYLIGHT
TZNAME:BST
TZOFFSETFROM:+0000
TZOFFSETTO:+0100
DTSTART:19360419T020000
RRULE:FREQ=YEARLY;UNTIL=19370418T020000Z;BYMONTH=4;BYMONTHDAY=16,17,18,19
 ,20,21,22;BYDAY=SU
END:DAYLIGHT
BEGIN:DAYLIGHT
TZNAME:BDST
TZOFFSETFROM:+0100
TZOFFSETTO:+0200
DTSTART:19410504T020000
RDATE:19450402T020000
RDATE:19470413T020000
END:DAYLIGHT
BEGIN:DAYLIGHT
TZNAME:BST
TZOFFSETFROM:+0200
TZOFFSETTO:+0100
DTSTART:19410810T030000
RRULE:FREQ=YEARLY;UNTIL=19430815T010000Z;BYMONTH=8;BYMONTHDAY=9,10,11,12,
 13,14,15;BYDAY=SU
END:DAYLIGHT
BEGIN:DAYLIGHT
TZNAME:BDST
TZOFFSETFROM:+0100
TZOFFSETTO:+0200
DTSTART:19420405T020000
RRULE:FREQ=YEARLY;UNTIL=19440402T010000Z;BYMONTH=4;BYMONTHDAY=2,3,4,5,6,7
 ,8;BYDAY=SU
END:DAYLIGHT
BEGIN:DAYLIGHT
TZNAME:BST
TZOFFSETFROM:+0200
TZOFFSETTO:+0100
DTSTART:19440917T030000
RDATE:19450715T030000
RDATE:19470810T030000
END:DAYLIGHT
BEGIN:STANDARD
TZNAME:GMT
TZOFFSETFROM:+0100
TZOFFSETTO:+0000
DTSTART:19451007T030000
RRULE:FREQ=YEARLY;UNTIL=19461006T020000Z;BYMONTH=10;BYMONTHDAY=2,3,4,5,6,
 7,8;BYDAY=SU
END:STANDARD
BEGIN:DAYLIGHT
TZNAME:BST
TZOFFSETFROM:+0000
TZOFFSETTO:+0100
DTSTART:19500416T020000
RRULE:FREQ=YEARLY;UNTIL=19520420T020000Z;BYMONTH=4;BYMONTHDAY=14,15,16,17
 ,18,19,20;BYDAY=SU
END:DAYLIGHT
BEGIN:STANDARD
TZNAME:GMT
TZOFFSETFROM:+0100
TZOFFSETTO:+0000
DTSTART:19501022T030000
RRULE:FREQ=YEARLY;UNTIL=19521026T020000Z;BYMONTH=10;BYMONTHDAY=21,22,23,2
 4,25,26,27;BYDAY=SU
END:STANDARD
BEGIN:STANDARD
TZNAME:GMT
TZOFFSETFROM:+0100
TZOFFSETTO:+0000
DTSTART:19531004T030000
RRULE:FREQ=YEARLY;UNTIL=19601002T020000Z;BYMONTH=10;BYMONTHDAY=2,3,4,5,6,
 7,8;BYDAY=SU
END:STANDARD
BEGIN:DAYLIGHT
TZNAME:BST
TZOFFSETFROM:+0000
TZOFFSETTO:+0100
DTSTART:19550417T020000
RRULE:FREQ=YEARLY;UNTIL=19560422T020000Z;BYMONTH=4;BYMONTHDAY=16,17,18,19
 ,20,21,22;BYDAY=SU
END:DAYLIGHT
BEGIN:DAYLIGHT
TZNAME:BST
TZOFFSETFROM:+0000
TZOFFSETTO:+0100
DTSTART:19580420T020000
RRULE:FREQ=YEARLY;UNTIL=19590419T020000Z;BYMONTH=4;BYMONTHDAY=16,17,18,19
 ,20,21,22;BYDAY=SU
END:DAYLIGHT
BEGIN:DAYLIGHT
TZNAME:BST
TZOFFSETFROM:+0000
TZOFFSETTO:+0100
DTSTART:19610326T020000
RRULE:FREQ=YEARLY;UNTIL=19630331T020000Z;BYMONTH=3;BYDAY=-1SU
END:DAYLIGHT
BEGIN:STANDARD
TZNAME:GMT
TZOFFSETFROM:+0100
TZOFFSETTO:+0000
DTSTART:19611029T030000
RRULE:FREQ=YEARLY;UNTIL=19671029T020000Z;BYMONTH=10;BYMONTHDAY=23,24,25,2
 6,27,28,29;BYDAY=SU
END:STANDARD
BEGIN:DAYLIGHT
TZNAME:BST
TZOFFSETFROM:+0000
TZOFFSETTO:+0100
DTSTART:19640322T020000
RRULE:FREQ=YEARLY;UNTIL=19670319T020000Z;BYMONTH=3;BYMONTHDAY=19,20,21,22
 ,23,24,25;BYDAY=SU
END:DAYLIGHT
BEGIN:STANDARD
TZNAME:BST
TZOFFSETFROM:+0100
TZOFFSETTO:+0100
DTSTART:19681026T230000
END:STANDARD
BEGIN:DAYLIGHT
TZNAME:BST
TZOFFSETFROM:+0000
TZOFFSETTO:+0100
DTSTART:19720319T020000
RRULE:FREQ=YEARLY;UNTIL=19800316T020000Z;BYMONTH=3;BYMONTHDAY=16,17,18,19
 ,20,21,22;BYDAY=SU
END:DAYLIGHT
BEGIN:STANDARD
TZNAME:GMT
TZOFFSETFROM:+0100
TZOFFSETTO:+0000
DTSTART:19721029T030000
RRULE:FREQ=YEARLY;UNTIL=19801026T020000Z;BYMONTH=10;BYMONTHDAY=23,24,25,2
 6,27,28,29;BYDAY=SU
END:STANDARD
BEGIN:DAYLIGHT
TZNAME:BST
TZOFFSETFROM:+0000
TZOFFSETTO:+0100
DTSTART:19810329T010000
RRULE:FREQ=YEARLY;BYMONTH=3;BYDAY=-1SU
END:DAYLIGHT
BEGIN:STANDARD
TZNAME:GMT
TZOFFSETFROM:+0100
TZOFFSETTO:+0000
DTSTART:19811025T020000
RRULE:FREQ=YEARLY;UNTIL=19891029T010000Z;BYMONTH=10;BYMONTHDAY=23,24,25,2
 6,27,28,29;BYDAY=SU
END:STANDARD
BEGIN:STANDARD
TZNAME:GMT
TZOFFSETFROM:+0100
TZOFFSETTO:+0000
DTSTART:19901028T020000
RRULE:FREQ=YEARLY;UNTIL=19951022T010000Z;BYMONTH=10;BYDAY=4SU
END:STANDARD
BEGIN:STANDARD
TZNAME:GMT
TZOFFSETFROM:+0000
TZOFFSETTO:+0000
DTSTART:19960101T000000
END:STANDARD
BEGIN:STANDARD
TZNAME:GMT
TZOFFSETFROM:+0100
TZOFFSETTO:+0000
DTSTART:19961027T020000
RRULE:FREQ=YEARLY;BYMONTH=10;BYDAY=-1SU
END:STANDARD
END:VTIMEZONE
BEGIN:VEVENT
DTSTAMP:20260421T053646Z
DTSTART;VALUE=DATE-TIME:20260204T150000
DTEND;VALUE=DATE-TIME:20260204T170000
SUMMARY:CSWG Seminar: "Couples at Work: Negotiating Paid Employment\, Hou
 sework\, and Childcare"
TZID:Europe/London
UID:20260204-8ac672c69bb6a58d019bc2abea1e48fa@warwick.ac.uk
CREATED:20260115T172025Z
DESCRIPTION:You are warmly invited to join us for a hybrid seminar: Coupl
 es at Work: Negotiating Paid Employment\, Housework\, and Childcare Wedn
 esday\, February 4th 2026 15.00 – 17.00 (UK time\; to convert to your ow
 n timezone\, click here) Hybrid event taking place in person in R0.03 (R
 amphal Building\, University of Warwick) online via Teams through this l
 ink (Meeting ID: 383 114 966 802 45\; Passcode: tc682Ps3) This event cel
 ebrates the publication of Dr Emily Christopher’s book\, Couples at Work
 : Negotiating Paid Employment\, Housework and Childcare. It will consist
  of a presentation by Emily and a panel discussion featuring Professor K
 atherine Twamley (UCL) and Dr Emma Casey (University of York). About the
  Book: Couples at Work offers a unique look into how couples manage paid
  employment\, housework\, and childcare. It explores how employment stru
 ctures\, policies\, and practices intersect with individual attitudes to
  either reinforce or challenge gender inequalities in the domestic spher
 e through the ‘doing’ and ‘undoing’ of gender. The book introduces a new
  typology of fathering as a key mechanism through which policies affect 
 domestic divisions of labour\, demonstrating how this typology shapes th
 e tasks men undertake and the impact of this on women’s ability to act o
 n their ‘preferences’ about how to combine paid work and home. By examin
 ing couples' negotiations of housework and childcare\, the book highligh
 ts the disparity between men’s and women’s reports on household duties\,
  revealing distinct gendered differences in how tasks are both conceptua
 lized and measured. Speaker Bios: Dr Emily Christopher is a Lecturer in 
 Sociology and Policy in the Department of Society and Politics at Aston 
 University. Emily's research primarily focuses on the reproduction of ge
 ndered inequalities in paid and unpaid work\, social policy and families
 . Her current research examines the role of UK childcare policy in bring
 ing about change in gender relations within families. Dr Emma Casey is R
 eader in Sociology in the Department of Sociology at the University of Y
 ork. Emma’s research broadly seeks to redress the relative lack of promi
 nence of sociological studies of domestic life and experiences. Her rece
 nt book The Return of the Housewife: Why Women are Still Cleaning Up exp
 lores the ways that women's unpaid labour is currently being glamourised
  and repositioned as empowering 'self-care' within social media cultures
  and\, with a focus on cleaninfluencers\, why the burden of housework st
 ill falls on women. Professor Katherine Twamley is a Sociologist at the 
 Social Research Institute\, University College London. Katherine’s resea
 rch focuses on gender\, love and intimacy\, social policy\, and families
 . Her recent book Caring is Sharing? Couples navigating parental leave a
 t the transition to parenthood explores why and how mixed-sex couples ma
 ke decisions around parental leave at the transition to parenthood\, and
  how these decisions shape their work and family care practices during a
 nd after the leave period\, contributing to debates over the efficacy of
  UK parental leave policy. This event is free and open to all\, but adva
 nce registration is required. To register for a place\, CLICK HERE. Refr
 eshments will be provided. If you have any questions about the event\, p
 lease email cswg-events@warwick.ac.uk If you have accessibility requirem
 ents or there are any adjustments we can make to support your full parti
 cipation\, you can let us know through the booking page above. This even
 t is organised by the Centre for the Study of Women and Gender\, Univers
 ity of Warwick. To receive information about future CSWG events\, please
  subscribe to our mailing list.
LOCATION:Hybrid: R0.03 (Ramphal Building\, University of Warwick) + Teams
 
CATEGORIES:Research Centre (Centre for the Study of Women and Gender)
LAST-MODIFIED:20260115T172025Z
ORGANIZER;CN=Maria do Mar Pereira:
END:VEVENT
END:VCALENDAR
