BEGIN:VCALENDAR
PRODID:-//SiteBuilder 2//University of Warwick ITS Web Team//EN
VERSION:2.0
CALSCALE:GREGORIAN
METHOD:PUBLISH
X-WR-CALNAME:The Academy » WIHEA Events
X-WR-TIMEZONE:Europe/London
X-LIC-LOCATION:Europe/London
BEGIN:VTIMEZONE
TZID:Europe/London
LAST-MODIFIED:20201010T011803Z
TZURL:http://tzurl.org/zoneinfo/Europe/London
X-LIC-LOCATION:Europe/London
X-PROLEPTIC-TZNAME:LMT
BEGIN:STANDARD
TZNAME:GMT
TZOFFSETFROM:+000115
TZOFFSETTO:+0000
DTSTART:18471201T000000
END:STANDARD
BEGIN:DAYLIGHT
TZNAME:BST
TZOFFSETFROM:+0000
TZOFFSETTO:+0100
DTSTART:19160521T020000
RDATE:19170408T020000
RDATE:19180324T020000
RDATE:19190330T020000
RDATE:19200328T020000
RDATE:19210403T020000
RDATE:19220326T020000
RDATE:19230422T020000
RDATE:19240413T020000
RDATE:19270410T020000
RDATE:19300413T020000
RDATE:19330409T020000
RDATE:19340422T020000
RDATE:19350414T020000
RDATE:19380410T020000
RDATE:19390416T020000
RDATE:19400225T020000
RDATE:19460414T020000
RDATE:19470316T020000
RDATE:19480314T020000
RDATE:19490403T020000
RDATE:19530419T020000
RDATE:19540411T020000
RDATE:19570414T020000
RDATE:19600410T020000
RDATE:19680218T020000
END:DAYLIGHT
BEGIN:STANDARD
TZNAME:GMT
TZOFFSETFROM:+0100
TZOFFSETTO:+0000
DTSTART:19161001T030000
RDATE:19170917T030000
RDATE:19180930T030000
RDATE:19190929T030000
RDATE:19201025T030000
RDATE:19211003T030000
RDATE:19221008T030000
RDATE:19391119T030000
RDATE:19471102T030000
RDATE:19481031T030000
RDATE:19491030T030000
RDATE:19711031T030000
END:STANDARD
BEGIN:STANDARD
TZNAME:GMT
TZOFFSETFROM:+0100
TZOFFSETTO:+0000
DTSTART:19230916T030000
RRULE:FREQ=YEARLY;UNTIL=19240921T020000Z;BYMONTH=9;BYMONTHDAY=16,17,18,19
 ,20,21,22;BYDAY=SU
END:STANDARD
BEGIN:DAYLIGHT
TZNAME:BST
TZOFFSETFROM:+0000
TZOFFSETTO:+0100
DTSTART:19250419T020000
RRULE:FREQ=YEARLY;UNTIL=19260418T020000Z;BYMONTH=4;BYMONTHDAY=16,17,18,19
 ,20,21,22;BYDAY=SU
END:DAYLIGHT
BEGIN:STANDARD
TZNAME:GMT
TZOFFSETFROM:+0100
TZOFFSETTO:+0000
DTSTART:19251004T030000
RRULE:FREQ=YEARLY;UNTIL=19381002T020000Z;BYMONTH=10;BYMONTHDAY=2,3,4,5,6,
 7,8;BYDAY=SU
END:STANDARD
BEGIN:DAYLIGHT
TZNAME:BST
TZOFFSETFROM:+0000
TZOFFSETTO:+0100
DTSTART:19280422T020000
RRULE:FREQ=YEARLY;UNTIL=19290421T020000Z;BYMONTH=4;BYMONTHDAY=16,17,18,19
 ,20,21,22;BYDAY=SU
END:DAYLIGHT
BEGIN:DAYLIGHT
TZNAME:BST
TZOFFSETFROM:+0000
TZOFFSETTO:+0100
DTSTART:19310419T020000
RRULE:FREQ=YEARLY;UNTIL=19320417T020000Z;BYMONTH=4;BYMONTHDAY=16,17,18,19
 ,20,21,22;BYDAY=SU
END:DAYLIGHT
BEGIN:DAYLIGHT
TZNAME:BST
TZOFFSETFROM:+0000
TZOFFSETTO:+0100
DTSTART:19360419T020000
RRULE:FREQ=YEARLY;UNTIL=19370418T020000Z;BYMONTH=4;BYMONTHDAY=16,17,18,19
 ,20,21,22;BYDAY=SU
END:DAYLIGHT
BEGIN:DAYLIGHT
TZNAME:BDST
TZOFFSETFROM:+0100
TZOFFSETTO:+0200
DTSTART:19410504T020000
RDATE:19450402T020000
RDATE:19470413T020000
END:DAYLIGHT
BEGIN:DAYLIGHT
TZNAME:BST
TZOFFSETFROM:+0200
TZOFFSETTO:+0100
DTSTART:19410810T030000
RRULE:FREQ=YEARLY;UNTIL=19430815T010000Z;BYMONTH=8;BYMONTHDAY=9,10,11,12,
 13,14,15;BYDAY=SU
END:DAYLIGHT
BEGIN:DAYLIGHT
TZNAME:BDST
TZOFFSETFROM:+0100
TZOFFSETTO:+0200
DTSTART:19420405T020000
RRULE:FREQ=YEARLY;UNTIL=19440402T010000Z;BYMONTH=4;BYMONTHDAY=2,3,4,5,6,7
 ,8;BYDAY=SU
END:DAYLIGHT
BEGIN:DAYLIGHT
TZNAME:BST
TZOFFSETFROM:+0200
TZOFFSETTO:+0100
DTSTART:19440917T030000
RDATE:19450715T030000
RDATE:19470810T030000
END:DAYLIGHT
BEGIN:STANDARD
TZNAME:GMT
TZOFFSETFROM:+0100
TZOFFSETTO:+0000
DTSTART:19451007T030000
RRULE:FREQ=YEARLY;UNTIL=19461006T020000Z;BYMONTH=10;BYMONTHDAY=2,3,4,5,6,
 7,8;BYDAY=SU
END:STANDARD
BEGIN:DAYLIGHT
TZNAME:BST
TZOFFSETFROM:+0000
TZOFFSETTO:+0100
DTSTART:19500416T020000
RRULE:FREQ=YEARLY;UNTIL=19520420T020000Z;BYMONTH=4;BYMONTHDAY=14,15,16,17
 ,18,19,20;BYDAY=SU
END:DAYLIGHT
BEGIN:STANDARD
TZNAME:GMT
TZOFFSETFROM:+0100
TZOFFSETTO:+0000
DTSTART:19501022T030000
RRULE:FREQ=YEARLY;UNTIL=19521026T020000Z;BYMONTH=10;BYMONTHDAY=21,22,23,2
 4,25,26,27;BYDAY=SU
END:STANDARD
BEGIN:STANDARD
TZNAME:GMT
TZOFFSETFROM:+0100
TZOFFSETTO:+0000
DTSTART:19531004T030000
RRULE:FREQ=YEARLY;UNTIL=19601002T020000Z;BYMONTH=10;BYMONTHDAY=2,3,4,5,6,
 7,8;BYDAY=SU
END:STANDARD
BEGIN:DAYLIGHT
TZNAME:BST
TZOFFSETFROM:+0000
TZOFFSETTO:+0100
DTSTART:19550417T020000
RRULE:FREQ=YEARLY;UNTIL=19560422T020000Z;BYMONTH=4;BYMONTHDAY=16,17,18,19
 ,20,21,22;BYDAY=SU
END:DAYLIGHT
BEGIN:DAYLIGHT
TZNAME:BST
TZOFFSETFROM:+0000
TZOFFSETTO:+0100
DTSTART:19580420T020000
RRULE:FREQ=YEARLY;UNTIL=19590419T020000Z;BYMONTH=4;BYMONTHDAY=16,17,18,19
 ,20,21,22;BYDAY=SU
END:DAYLIGHT
BEGIN:DAYLIGHT
TZNAME:BST
TZOFFSETFROM:+0000
TZOFFSETTO:+0100
DTSTART:19610326T020000
RRULE:FREQ=YEARLY;UNTIL=19630331T020000Z;BYMONTH=3;BYDAY=-1SU
END:DAYLIGHT
BEGIN:STANDARD
TZNAME:GMT
TZOFFSETFROM:+0100
TZOFFSETTO:+0000
DTSTART:19611029T030000
RRULE:FREQ=YEARLY;UNTIL=19671029T020000Z;BYMONTH=10;BYMONTHDAY=23,24,25,2
 6,27,28,29;BYDAY=SU
END:STANDARD
BEGIN:DAYLIGHT
TZNAME:BST
TZOFFSETFROM:+0000
TZOFFSETTO:+0100
DTSTART:19640322T020000
RRULE:FREQ=YEARLY;UNTIL=19670319T020000Z;BYMONTH=3;BYMONTHDAY=19,20,21,22
 ,23,24,25;BYDAY=SU
END:DAYLIGHT
BEGIN:STANDARD
TZNAME:BST
TZOFFSETFROM:+0100
TZOFFSETTO:+0100
DTSTART:19681026T230000
END:STANDARD
BEGIN:DAYLIGHT
TZNAME:BST
TZOFFSETFROM:+0000
TZOFFSETTO:+0100
DTSTART:19720319T020000
RRULE:FREQ=YEARLY;UNTIL=19800316T020000Z;BYMONTH=3;BYMONTHDAY=16,17,18,19
 ,20,21,22;BYDAY=SU
END:DAYLIGHT
BEGIN:STANDARD
TZNAME:GMT
TZOFFSETFROM:+0100
TZOFFSETTO:+0000
DTSTART:19721029T030000
RRULE:FREQ=YEARLY;UNTIL=19801026T020000Z;BYMONTH=10;BYMONTHDAY=23,24,25,2
 6,27,28,29;BYDAY=SU
END:STANDARD
BEGIN:DAYLIGHT
TZNAME:BST
TZOFFSETFROM:+0000
TZOFFSETTO:+0100
DTSTART:19810329T010000
RRULE:FREQ=YEARLY;BYMONTH=3;BYDAY=-1SU
END:DAYLIGHT
BEGIN:STANDARD
TZNAME:GMT
TZOFFSETFROM:+0100
TZOFFSETTO:+0000
DTSTART:19811025T020000
RRULE:FREQ=YEARLY;UNTIL=19891029T010000Z;BYMONTH=10;BYMONTHDAY=23,24,25,2
 6,27,28,29;BYDAY=SU
END:STANDARD
BEGIN:STANDARD
TZNAME:GMT
TZOFFSETFROM:+0100
TZOFFSETTO:+0000
DTSTART:19901028T020000
RRULE:FREQ=YEARLY;UNTIL=19951022T010000Z;BYMONTH=10;BYDAY=4SU
END:STANDARD
BEGIN:STANDARD
TZNAME:GMT
TZOFFSETFROM:+0000
TZOFFSETTO:+0000
DTSTART:19960101T000000
END:STANDARD
BEGIN:STANDARD
TZNAME:GMT
TZOFFSETFROM:+0100
TZOFFSETTO:+0000
DTSTART:19961027T020000
RRULE:FREQ=YEARLY;BYMONTH=10;BYDAY=-1SU
END:STANDARD
END:VTIMEZONE
BEGIN:VEVENT
DTSTAMP:20260422T051143Z
DTSTART;VALUE=DATE-TIME:20260409T140000
DTEND;VALUE=DATE-TIME:20260409T150000
SUMMARY:Building Belonging Learning Circle Meeting (Membership Open to al
 l)
TZID:Europe/London
UID:20260409-8ac672c4997c9fcc0199806f46590d87@warwick.ac.uk
CREATED:20250925T105356Z
DESCRIPTION:WIHEA's Building Belonging Learning Circle offers an open mem
 bership to all at Warwick to join. This meeting for members will be via 
 MSTeams. For more information visit the Learning Circle's web page or if
  you are interested in attending and/or joining the Learning Circle plea
 se contact: Inca Hide-Wright - inca.o.hide-wright@warwick.ac.uk or Sarah
  Bennett - sarah.j.r.bennett@warwick.ac.uk
LOCATION:MS Teams
CATEGORIES:WIHEA Learning Circle,Building Belonging
LAST-MODIFIED:20250925T105356Z
ORGANIZER;CN=Lisa Drummond:
END:VEVENT
BEGIN:VEVENT
DTSTAMP:20260422T051143Z
DTSTART;VALUE=DATE-TIME:20260611T140000
DTEND;VALUE=DATE-TIME:20260611T150000
SUMMARY:Building Belonging Learning Circle Meeting (Membership Open to al
 l)
TZID:Europe/London
UID:20260611-8ac672c4997c9fcc0199806fb1120d8d@warwick.ac.uk
CREATED:20250925T105418Z
DESCRIPTION:WIHEA's Building Belonging Learning Circle offers an open mem
 bership to all at Warwick to join. This meeting for members will be via 
 MSTeams. For more information visit the Learning Circle's web page or if
  you are interested in attending and/or joining the Learning Circle plea
 se contact: Inca Hide-Wright - inca.o.hide-wright@warwick.ac.uk or Sarah
  Bennett - sarah.j.r.bennett@warwick.ac.uk
LOCATION:MS Teams
CATEGORIES:WIHEA Learning Circle,Building Belonging
LAST-MODIFIED:20250925T105418Z
ORGANIZER;CN=Lisa Drummond:
END:VEVENT
BEGIN:VEVENT
DTSTAMP:20260422T051143Z
DTSTART;VALUE=DATE-TIME:20260415T140000
DTEND;VALUE=DATE-TIME:20260415T150000
SUMMARY:AI in Education Learning Circle Meeting (Membership open to all)
TZID:Europe/London
UID:20260415-8ac672c499ff9239019a028690e40d03@warwick.ac.uk
CREATED:20251020T164924Z
DESCRIPTION:WIHEA's AI in Education Learning Circle offers an open member
 ship to all at Warwick to join. This meeting is for members. For more in
 formation visit the Learning Circle's web pageLink opens in a new window
  or if you are interested in attending and/or becoming a member of the L
 earning Circle please contact: Neha Gupta (Neha.Gupta@wbs.ac.uk)\, Karen
  Jackson (K.Jackson.3@warwick.ac.uk) Jianhua Yang (Jianhua.Yang@warwick.
 ac.uk).
LOCATION:MS Teams
CATEGORIES:AI in Education
LAST-MODIFIED:20251020T164924Z
ORGANIZER;CN=Lisa Drummond:
END:VEVENT
BEGIN:VEVENT
DTSTAMP:20260422T051143Z
DTSTART;VALUE=DATE-TIME:20260422T120000
DTEND;VALUE=DATE-TIME:20260422T130000
SUMMARY:Internationalisation Learning Circle Meeting (Membership open to 
 all)
TZID:Europe/London
UID:20260422-8ac672c49a47e22b019a53a22ffb4c32@warwick.ac.uk
CREATED:20251105T104849Z
DESCRIPTION:WIHEA's Internationalisation Learning Circle offers an open m
 embership to all at Warwick to join. This meeting is for members only. F
 or more information visit the Learning Circle's web page or if you are i
 nterested in attending and/or becoming a member of the Learning Circle p
 lease contact: Daniel Jones (daniel.jones.5@warwick.ac.uk) or Massimilia
 no Tamborrino (Massimiliano.Tamborrino@warwick.ac.uk).
LOCATION:SH2.19 (Senate House) also via MS Teams
CATEGORIES:WIHEA Learning Circle,Internationalisation
LAST-MODIFIED:20251105T104849Z
ORGANIZER;CN=Lisa Drummond:
END:VEVENT
BEGIN:VEVENT
DTSTAMP:20260422T051143Z
DTSTART;VALUE=DATE-TIME:20260520T120000
DTEND;VALUE=DATE-TIME:20260520T130000
SUMMARY:Internationalisation Learning Circle Meeting (Membership open to 
 all)
TZID:Europe/London
UID:20260520-8ac672c49a47e22b019a544d5bbd4f4f@warwick.ac.uk
CREATED:20251105T135547Z
DESCRIPTION:WIHEA's Internationalisation Learning Circle offers an open m
 embership to all at Warwick to join. This meeting is for members only. F
 or more information visit the Learning Circle's web page or if you are i
 nterested in attending and/or becoming a member of the Learning Circle p
 lease contact: Daniel Jones (daniel.jones.5@warwick.ac.uk) or Massimilia
 no Tamborrino (Massimiliano.Tamborrino@warwick.ac.uk).
LOCATION:SH2.19 (Senate House) also via MS Teams
CATEGORIES:WIHEA Learning Circle,Internationalisation
LAST-MODIFIED:20251105T135547Z
ORGANIZER;CN=Lisa Drummond:
END:VEVENT
BEGIN:VEVENT
DTSTAMP:20260422T051143Z
DTSTART;VALUE=DATE-TIME:20260415T130000
DTEND;VALUE=DATE-TIME:20260415T140000
SUMMARY:Mature Student Experience Learning Circle Meeting (Members only)
TZID:Europe/London
UID:20260415-8ac672c49bf878cd019bf9abded30183@warwick.ac.uk
CREATED:20260319T100049Z
DESCRIPTION:This meeting is for WIHEA's Mature Student Experience Learnin
 g Circle Members only. If you are a WIHEA Fellow or Alumni interested in
  finding out more about this Learning Circle or attending the meeting pl
 ease directly contact the leads: Nalita James - nalita.james@warwick.ac.
 uk or Anil Awesti - a.k.awesti@warwick.ac.uk
LOCATION:MS Teams
CATEGORIES:WIHEA Learning Circle,Mature Student Experience
LAST-MODIFIED:20260319T100049Z
ORGANIZER;CN=Lisa Drummond:
END:VEVENT
BEGIN:VEVENT
DTSTAMP:20260422T051143Z
DTSTART;VALUE=DATE-TIME:20260421T111500
DTEND;VALUE=DATE-TIME:20260421T121500
SUMMARY:Designing & Assessing Group Work Learning Circle Meeting (Members
 hip open to all)
TZID:Europe/London
UID:20260421-8ac672c59d8bfea7019d8c70881e35c0@warwick.ac.uk
CREATED:20260414T144156Z
DESCRIPTION:WIHEA's Designing & Assessing Group Work Learning Circle offe
 rs an open membership to all at Warwick to join. This meeting is for its
  members. For more information visit the Learning Circle's web page or i
 f you are interested in attending and/or becoming a member of the Learni
 ng Circle please contact: Mujthaba Ahtamad - m.a.ahtamad@warwick.ac.uk o
 r Ian Saunders - Ian.Saunders@warwick.ac.uk
LOCATION:MS Teams
CATEGORIES:WIHEA Learning Circle,Designing and Assessing Group Work,WIHEA
  Open Event
LAST-MODIFIED:20260414T144156Z
ORGANIZER;CN=Lisa Drummond:
END:VEVENT
BEGIN:VEVENT
DTSTAMP:20260422T051143Z
DTSTART;VALUE=DATE-TIME:20260513T110000
DTEND;VALUE=DATE-TIME:20260513T120000
SUMMARY:Building Belonging Learning Circle Meeting (Membership Open to al
 l)
TZID:Europe/London
UID:20260513-8ac672c6997c9c4a019980767a0d56e6@warwick.ac.uk
CREATED:20250925T104745Z
DESCRIPTION:WIHEA's Building Belonging Learning Circle offers an open mem
 bership to all at Warwick to join. This meeting is for members only. For
  more information visit the Learning Circle's web page or if you are int
 erested in attending and/or becoming a member of the Learning Circle ple
 ase contact: Inca Hide-Wright - inca.o.hide-wright@warwick.ac.uk or Sara
 h Bennett - sarah.j.r.bennett@warwick.ac.uk
LOCATION:OC0.01
CATEGORIES:WIHEA Learning Circle,Building Belonging
LAST-MODIFIED:20250925T104745Z
ORGANIZER;CN=Lisa Drummond:
END:VEVENT
BEGIN:VEVENT
DTSTAMP:20260422T051143Z
DTSTART;VALUE=DATE-TIME:20260428T140000
DTEND;VALUE=DATE-TIME:20260428T150000
SUMMARY:Teaching Recognition & Reward (TR&R) Learning Circle Meeting (Mem
 bers Only)
TZID:Europe/London
UID:20260428-8ac672c699e717d30199e820a0580d86@warwick.ac.uk
CREATED:20251015T153952Z
DESCRIPTION:The WIHEA Teaching Recognition & Reward (TR&R) Learning Circl
 e offers membership to WIHEA Fellows and Alumni. This meeting is for mem
 bers only and will be held on campus. To learn about the plans this Lear
 ning Circle has for 2025/26 please visit the Learning Circle's web page 
 of if you are a Fellow or Alumni that is interested in joining the Learn
 ing Circle\, please contact the lead directly: Simon Peplow - simon.pepl
 ow@warwick.ac.uk
LOCATION:Senate House\,SH2.19
CATEGORIES:Teaching Recognition and Reward
LAST-MODIFIED:20251015T153952Z
ORGANIZER;CN=Lisa Drummond:
END:VEVENT
BEGIN:VEVENT
DTSTAMP:20260422T051143Z
DTSTART;VALUE=DATE-TIME:20260526T140000
DTEND;VALUE=DATE-TIME:20260526T150000
SUMMARY:Teaching Recognition & Reward (TR&R) Learning Circle Meeting (Mem
 bers Only)
TZID:Europe/London
UID:20260526-8ac672c699e717d30199e82107060d8a@warwick.ac.uk
CREATED:20251015T154012Z
DESCRIPTION:The WIHEA Teaching Recognition & Reward (TR&R) Learning Circl
 e offers membership to WIHEA Fellows and Alumni. This meeting is for mem
 bers only and will be held on campus. To learn about the plans this Lear
 ning Circle has for 2025/26 please visit the Learning Circle's web page 
 of if you are a Fellow or Alumni that is interested in joining the Learn
 ing Circle\, please contact the lead directly: Simon Peplow - simon.pepl
 ow@warwick.ac.uk
LOCATION:Senate House\,SH2.19
CATEGORIES:Teaching Recognition and Reward
LAST-MODIFIED:20251015T154012Z
ORGANIZER;CN=Lisa Drummond:
END:VEVENT
BEGIN:VEVENT
DTSTAMP:20260422T051143Z
DTSTART;VALUE=DATE-TIME:20260611T140000
DTEND;VALUE=DATE-TIME:20260611T150000
SUMMARY:AI in Education Learning Circle Meeting (Membership open to all)
TZID:Europe/London
UID:20260611-8ac672c699ff9228019a0286fdf640cf@warwick.ac.uk
CREATED:20251020T164952Z
DESCRIPTION:WIHEA's AI in Education Learning Circle offers an open member
 ship to all at Warwick to join. This meeting is for members. For more in
 formation visit the Learning Circle's web pageLink opens in a new window
  or if you are interested in attending and/or becoming a member of the L
 earning Circle please contact: Neha Gupta (Neha.Gupta@wbs.ac.uk)\, Karen
  Jackson (K.Jackson.3@warwick.ac.uk) Jianhua Yang (Jianhua.Yang@warwick.
 ac.uk).
LOCATION:MS Teams
CATEGORIES:AI in Education
LAST-MODIFIED:20251020T164952Z
ORGANIZER;CN=Lisa Drummond:
END:VEVENT
BEGIN:VEVENT
DTSTAMP:20260422T051143Z
DTSTART;VALUE=DATE-TIME:20260702T120000
DTEND;VALUE=DATE-TIME:20260702T140000
SUMMARY:WIHEA Fellows & Alumni Networking Lunch (Fellows & Alumni only)
TZID:Europe/London
UID:20260702-8ac672c69bb6a58d019bc6a1b9e45803@warwick.ac.uk
CREATED:20260116T114726Z
DESCRIPTION:WIHEA leads educational excellence by empowering staff and st
 udents to forge meaningful connections and vibrant communities that seek
  to develop\, recognise\, and embed outstanding learning and teaching pr
 actices that enhance student opportunities to 'learn beyond boundaries.'
  WIHEA Staff and Student Fellows/Alumni are regularly invited to WIHEA N
 etworking Lunches\, which provide opportunities for: Colleagues from acr
 oss the university\, academic departments\, professional services and st
 udents to make strong connections and networks\, share practice and expe
 riences and develop new interdisciplinary opportunities for impactful co
 llaboration. Dissemination of educational priorities\, good practice\, b
 enchmarking & informal learning\, valuing and promoting educational exce
 llence to develop a strong informed collective academic voice. Fostering
  and valuing diverse\, inclusive communities among students and staff Ce
 lebrating education leadership\, pedagogical\, innovative\, administrati
 ve\, strategic and interrelational leadership
LOCATION:Panorama 1&2\, Rootes Building
CATEGORIES:WIHEA Fellows Event,WIHEA Student Fellows,WIHEA Alumni
LAST-MODIFIED:20260116T114726Z
ORGANIZER;CN=Lisa Drummond:
END:VEVENT
BEGIN:VEVENT
DTSTAMP:20260422T051143Z
DTSTART;VALUE=DATE-TIME:20260520T160000
DTEND;VALUE=DATE-TIME:20260520T170000
SUMMARY:Transatlantic Teaching Exchange Series (TTES): Building transatla
 ntic partnerships: what could we create together? (Open to all)
TZID:Europe/London
UID:20260520-8ac672c69bd67a68019be0386b1123e0@warwick.ac.uk
CREATED:20260121T110232Z
DESCRIPTION:This session is open to all and will be the final in the seri
 es. It will be led by the University of Warwick and will focus on future
  transatlantic teaching\, research and engagement opportunities.
LOCATION:MS Teams
URL:https://warwick.ac.uk/fac/cross_fac/academy/international/ttes/
ATTACH:https://warwick.ac.uk/fac/cross_fac/academy/international/ttes/
CATEGORIES:All staff and students,Open Event
LAST-MODIFIED:20260121T110232Z
ORGANIZER;CN=Lara Coxon:
END:VEVENT
BEGIN:VEVENT
DTSTAMP:20260422T051143Z
DTSTART;VALUE=DATE-TIME:20260429T120000
DTEND;VALUE=DATE-TIME:20260429T130000
SUMMARY:WIHEA Building Belonging Learning Circle - Embedding belonging in
 to curriculum workshop (Open to all)
TZID:Europe/London
UID:20260429-8ac672c69c5163c5019c51aedc58019d@warwick.ac.uk
CREATED:20260218T162430Z
DESCRIPTION:This workshop is aimed at staff and students and will focus o
 n building belonging in the curriculum.
LOCATION:Faculty of Social Sciences R0.12
URL:https://warwick.ac.uk/fac/cross_fac/academy/activities/learningcircle
 s/belonging-framework/embedding-belonging-in-the-curriculum/
ATTACH:https://warwick.ac.uk/fac/cross_fac/academy/activities/learningcir
 cles/belonging-framework/embedding-belonging-in-the-curriculum/
CATEGORIES:Building Belonging
LAST-MODIFIED:20260218T162430Z
ORGANIZER;CN=Lara Coxon:
END:VEVENT
BEGIN:VEVENT
DTSTAMP:20260422T051143Z
DTSTART;VALUE=DATE-TIME:20260630T140000
DTEND;VALUE=DATE-TIME:20260630T150000
SUMMARY:Teaching Recognition & Reward (TR&R) Learning Circle Meeting (Mem
 bers only)
TZID:Europe/London
UID:20260630-8ac672c799e717cc0199e8216e920a97@warwick.ac.uk
CREATED:20251015T154034Z
DESCRIPTION:The WIHEA Teaching Recognition & Reward (TR&R) Learning Circl
 e offers membership to WIHEA Fellows and Alumni. This meeting is for mem
 bers only and will be held on campus. To learn about the plans this Lear
 ning Circle has for 2025/26 please visit the Learning Circle's web page 
 of if you are a Fellow or Alumni that is interested in joining the Learn
 ing Circle\, please contact the lead directly: Simon Peplow - simon.pepl
 ow@warwick.ac.uk
LOCATION:Senate House\,SH2.19
CATEGORIES:Teaching Recognition and Reward
LAST-MODIFIED:20251015T154034Z
ORGANIZER;CN=Lisa Drummond:
END:VEVENT
BEGIN:VEVENT
DTSTAMP:20260422T051143Z
DTSTART;VALUE=DATE-TIME:20260622T120000
DTEND;VALUE=DATE-TIME:20260622T130000
SUMMARY:Internationalisation Learning Circle Meeting (Membership open to 
 all)
TZID:Europe/London
UID:20260622-8ac672c79a4d088a019a53a28ef3238a@warwick.ac.uk
CREATED:20251105T104913Z
DESCRIPTION:WIHEA's Internationalisation Learning Circle offers an open m
 embership to all at Warwick to join. This meeting is for members only. F
 or more information visit the Learning Circle's web page or if you are i
 nterested in attending and/or becoming a member of the Learning Circle p
 lease contact: Daniel Jones (daniel.jones.5@warwick.ac.uk) or Massimilia
 no Tamborrino (Massimiliano.Tamborrino@warwick.ac.uk).
LOCATION:SH2.19 (Senate House) also via MS Teams
CATEGORIES:WIHEA Learning Circle,Internationalisation
LAST-MODIFIED:20251105T104913Z
ORGANIZER;CN=Lisa Drummond:
END:VEVENT
BEGIN:VEVENT
DTSTAMP:20260422T051143Z
DTSTART;VALUE=DATE-TIME:20260415T160000
DTEND;VALUE=DATE-TIME:20260415T170000
SUMMARY:Transatlantic Teaching Exchange Series (TTES): Teaching in the ag
 e of AI: opportunities and boundaries (Open to all)
TZID:Europe/London
UID:20260415-8ac672c79bd99164019be02f45460f81@warwick.ac.uk
CREATED:20260121T110620Z
DESCRIPTION:This session is open to all and will be led by Elon Universit
 y.
LOCATION:MS Teams
URL:https://warwick.ac.uk/fac/cross_fac/academy/international/ttes/
ATTACH:https://warwick.ac.uk/fac/cross_fac/academy/international/ttes/
CATEGORIES:All staff and students,Open Event,AI in Education
LAST-MODIFIED:20260121T110620Z
ORGANIZER;CN=Lara Coxon:
END:VEVENT
BEGIN:VEVENT
DTSTAMP:20260422T051143Z
DTSTART;VALUE=DATE-TIME:20260506T160000
DTEND;VALUE=DATE-TIME:20260506T170000
SUMMARY:Transatlantic Teaching Exchange Series (TTES): How can assessment
  drive learning\, not just measure it? (Open to all)
TZID:Europe/London
UID:20260506-8ac672c79bd99164019be0340d6c0f88@warwick.ac.uk
CREATED:20260121T110658Z
DESCRIPTION:This session is open to all and will be led by the University
  of Leeds.
LOCATION:MS Teams
URL:https://warwick.ac.uk/fac/cross_fac/academy/international/ttes/
ATTACH:https://warwick.ac.uk/fac/cross_fac/academy/international/ttes/
CATEGORIES:All staff and students,Open Event
LAST-MODIFIED:20260121T110658Z
ORGANIZER;CN=Lara Coxon:
END:VEVENT
END:VCALENDAR
